BEGIN:VCALENDAR
VERSION:2.0
PRODID:-//WYSE Travel Confederation - ECPv4.4.5//NONSGML v1.0//EN
CALSCALE:GREGORIAN
METHOD:PUBLISH
X-WR-CALNAME:WYSE Travel Confederation
X-ORIGINAL-URL:https://www.wysetc.org
X-WR-CALDESC:Events for WYSE Travel Confederation
BEGIN:VEVENT
DTSTART;VALUE=DATE:20180625
DTEND;VALUE=DATE:20180625
DTSTAMP:20180623T091439
CREATED:20180516T131759Z
LAST-MODIFIED:20180516T132018Z
UID:40025-1529884800-1529971199@www.wysetc.org
SUMMARY:WYSE NYC summer reception
DESCRIPTION:Join WYSE Travel Confederation staff and the Management Board at our New York City Summer Reception for an evening of entertainment\, drinks and food. The reception will take place in the gardens of HI NYC\, the largest privately owned green space in Manhattan.\nThe invite is open to organisations interested in the youth and student travel market. Please complete our form to register to attend.
URL:https://www.wysetc.org/event/wyse-nyc-summer-reception/
LOCATION:891 Amsterdam Avenue\, New York\, 10025\, United States
END:VEVENT
BEGIN:VEVENT
DTSTART;VALUE=DATE:20180918
DTEND;VALUE=DATE:20180921
DTSTAMP:20180623T091439
CREATED:20170505T144121Z
LAST-MODIFIED:20180516T131359Z
UID:19602-1537228800-1537574399@www.wysetc.org
SUMMARY:WYSTC
DESCRIPTION:The World Youth and Student Travel Conference (WYSTC) is the leading trade event for the global youth\, student and educational travel industry. Since its inception in 1992 as the annual event of WYSE Travel Confederation\, youth and student travel professionals have been gathering annually to trade\, network and take part in seminars and workshops.
URL:https://www.wysetc.org/event/wystc/
LOCATION:150 Morrison St\, Edinburgh\, EH3 8EE\, United Kingdom
ORGANIZER;CN="WYSE%20Travel%20Confederation":MAILTO:events@wysetc.org
END:VEVENT
END:VCALENDAR